BEGIN:VCALENDAR
VERSION:2.0
PRODID:icalendar-ruby
CALSCALE:GREGORIAN
METHOD:PUBLISH
BEGIN:VEVENT
DTSTAMP:20260423T110742Z
UID:50-7858413@christianretreat.org
DTSTART:20260713T220000Z
DTEND:20260713T230000Z
CLASS:PUBLIC
CREATED:20260423T070550
DESCRIPTION:Hunger's End Food Pantry\nExciting outreach to meet the basic n
 eeds of food\, clothing\, and hygiene items to Manatee County residents. 
  We serve a meal every Monday night.\nwebsite: www.hungersendamerica.com\
 nContacts: Carl &amp\; Vickie Snyder\nEmail: info@hungersendamerica.com\nP
 hone: 941-448-1549 (Vickie)
LAST-MODIFIED:20260423T070550
LOCATION:1800 14th St. W.\, Bradenton\, FL
SUMMARY:Hunger's End Food Pantry
URL;VALUE=URI:https://www.christianretreat.org/events/hungers-end-food-pant
 ry/2026-07-13
END:VEVENT
END:VCALENDAR
