BEGIN:VCALENDAR
VERSION:2.0
PRODID:icalendar-ruby
CALSCALE:GREGORIAN
METHOD:PUBLISH
BEGIN:VEVENT
DTSTAMP:20260423T230547Z
UID:50-7876377@christianretreat.org
DTSTART:20260907T220000Z
DTEND:20260907T230000Z
CLASS:PUBLIC
CREATED:20260423T184516
DESCRIPTION:Hunger's End Food Pantry\nExciting outreach to meet the basic n
 eeds of food\, clothing\, and hygiene items to Manatee County residents. 
  We serve a meal every Monday night.\nwebsite: www.hungersendamerica.com\
 nContacts: Carl &amp\; Vickie Snyder\nEmail: info@hungersendamerica.com\nP
 hone: 941-448-1549 (Vickie)
LAST-MODIFIED:20260423T184516
LOCATION:1800 14th St. W.\, Bradenton\, FL
SUMMARY:Hunger's End Food Pantry
URL;VALUE=URI:https://www.christianretreat.org/events/hungers-end-food-pant
 ry/2026-09-07
END:VEVENT
END:VCALENDAR
