BEGIN:VCALENDAR
VERSION:2.0
PRODID:icalendar-ruby
CALSCALE:GREGORIAN
METHOD:PUBLISH
BEGIN:VEVENT
DTSTAMP:20260425T155105Z
UID:22-7914030@christianretreat.org
DTSTART:20220612T130000Z
DTEND:20220612T133000Z
CLASS:PUBLIC
CREATED:20260425T094222
DESCRIPTION:
LAST-MODIFIED:20260425T094222
LOCATION:Boardroom
SUMMARY:Men's Bible Study
URL;VALUE=URI:https://www.christianretreat.org/events/mens-bible-study/2022
 -06-12
END:VEVENT
END:VCALENDAR
