BEGIN:VCALENDAR
VERSION:2.0
PRODID:icalendar-ruby
CALSCALE:GREGORIAN
METHOD:PUBLISH
BEGIN:VEVENT
DTSTAMP:20260425T172333Z
UID:22-7918522@christianretreat.org
DTSTART:20220619T130000Z
DTEND:20220619T133000Z
CLASS:PUBLIC
CREATED:20260425T122254
DESCRIPTION:
LAST-MODIFIED:20260425T122254
LOCATION:Boardroom
SUMMARY:Men's Bible Study
URL;VALUE=URI:https://www.christianretreat.org/events/mens-bible-study/2022
 -06-19
END:VEVENT
END:VCALENDAR
