BEGIN:VCALENDAR
VERSION:2.0
PRODID:icalendar-ruby
CALSCALE:GREGORIAN
METHOD:PUBLISH
BEGIN:VEVENT
DTSTAMP:20260425T191203Z
UID:22-7923014@christianretreat.org
DTSTART:20220626T130000Z
DTEND:20220626T133000Z
CLASS:PUBLIC
CREATED:20260425T150308
DESCRIPTION:
LAST-MODIFIED:20260425T150308
LOCATION:Boardroom
SUMMARY:Men's Bible Study
URL;VALUE=URI:https://www.christianretreat.org/events/mens-bible-study/2022
 -06-26
END:VEVENT
END:VCALENDAR
