BEGIN:VCALENDAR
VERSION:2.0
PRODID:icalendar-ruby
CALSCALE:GREGORIAN
METHOD:PUBLISH
BEGIN:VEVENT
DTSTAMP:20260426T000821Z
UID:22-7927508@christianretreat.org
DTSTART:20220717T130000Z
DTEND:20220717T133000Z
CLASS:PUBLIC
CREATED:20260425T174517
DESCRIPTION:
LAST-MODIFIED:20260425T174517
LOCATION:Boardroom
SUMMARY:Men's Bible Study
URL;VALUE=URI:https://www.christianretreat.org/events/mens-bible-study/2022
 -07-17
END:VEVENT
END:VCALENDAR
