BEGIN:VCALENDAR
VERSION:2.0
PRODID:icalendar-ruby
CALSCALE:GREGORIAN
METHOD:PUBLISH
BEGIN:VEVENT
DTSTAMP:20260426T013723Z
UID:22-7932000@christianretreat.org
DTSTART:20220724T130000Z
DTEND:20220724T133000Z
CLASS:PUBLIC
CREATED:20260425T202821
DESCRIPTION:
LAST-MODIFIED:20260425T202821
LOCATION:Boardroom
SUMMARY:Men's Bible Study
URL;VALUE=URI:https://www.christianretreat.org/events/mens-bible-study/2022
 -07-24
END:VEVENT
END:VCALENDAR
