BEGIN:VCALENDAR
VERSION:2.0
PRODID:icalendar-ruby
CALSCALE:GREGORIAN
METHOD:PUBLISH
BEGIN:VEVENT
DTSTAMP:20260426T044334Z
UID:22-7932002@christianretreat.org
DTSTART:20220807T130000Z
DTEND:20220807T133000Z
CLASS:PUBLIC
CREATED:20260425T202821
DESCRIPTION:
LAST-MODIFIED:20260425T202821
LOCATION:Boardroom
SUMMARY:Men's Bible Study
URL;VALUE=URI:https://www.christianretreat.org/events/mens-bible-study/2022
 -08-07
END:VEVENT
END:VCALENDAR
