BEGIN:VCALENDAR
VERSION:2.0
PRODID:icalendar-ruby
CALSCALE:GREGORIAN
METHOD:PUBLISH
BEGIN:VEVENT
DTSTAMP:20260423T170119Z
UID:21-7864551@christianretreat.org
DTSTART:20260722T030000Z
DTEND:20260722T033000Z
CLASS:PUBLIC
CREATED:20260423T125407
DESCRIPTION:
LAST-MODIFIED:20260423T125407
LOCATION:
SUMMARY:Purpose for Life TV Show
URL;VALUE=URI:https://www.christianretreat.org/events/purpose-for-life-tv-s
 how/2026-07-21
END:VEVENT
END:VCALENDAR
