BEGIN:VCALENDAR
VERSION:2.0
PRODID:icalendar-ruby
CALSCALE:GREGORIAN
METHOD:PUBLISH
BEGIN:VEVENT
DTSTAMP:20260423T214958Z
UID:21-7869043@christianretreat.org
DTSTART:20260812T030000Z
DTEND:20260812T033000Z
CLASS:PUBLIC
CREATED:20260423T155054
DESCRIPTION:
LAST-MODIFIED:20260423T155054
LOCATION:
SUMMARY:Purpose for Life TV Show
URL;VALUE=URI:https://www.christianretreat.org/events/purpose-for-life-tv-s
 how/2026-08-11
END:VEVENT
END:VCALENDAR
