BEGIN:VCALENDAR
VERSION:2.0
PRODID:icalendar-ruby
CALSCALE:GREGORIAN
METHOD:PUBLISH
BEGIN:VEVENT
DTSTAMP:20260423T231519Z
UID:21-7873533@christianretreat.org
DTSTART:20260819T030000Z
DTEND:20260819T033000Z
CLASS:PUBLIC
CREATED:20260423T184508
DESCRIPTION:
LAST-MODIFIED:20260423T184508
LOCATION:
SUMMARY:Purpose for Life TV Show
URL;VALUE=URI:https://www.christianretreat.org/events/purpose-for-life-tv-s
 how/2026-08-18
END:VEVENT
END:VCALENDAR
