BEGIN:VCALENDAR
VERSION:2.0
PRODID:icalendar-ruby
CALSCALE:GREGORIAN
METHOD:PUBLISH
BEGIN:VEVENT
DTSTAMP:20260424T003531Z
UID:21-7873534@christianretreat.org
DTSTART:20260826T030000Z
DTEND:20260826T033000Z
CLASS:PUBLIC
CREATED:20260423T184508
DESCRIPTION:
LAST-MODIFIED:20260423T184508
LOCATION:
SUMMARY:Purpose for Life TV Show
URL;VALUE=URI:https://www.christianretreat.org/events/purpose-for-life-tv-s
 how/2026-08-25
END:VEVENT
END:VCALENDAR
