BEGIN:VCALENDAR
VERSION:2.0
PRODID:icalendar-ruby
CALSCALE:GREGORIAN
METHOD:PUBLISH
BEGIN:VEVENT
DTSTAMP:20260424T044221Z
UID:21-7878026@christianretreat.org
DTSTART:20260916T030000Z
DTEND:20260916T033000Z
CLASS:PUBLIC
CREATED:20260423T213818
DESCRIPTION:
LAST-MODIFIED:20260423T213818
LOCATION:
SUMMARY:Purpose for Life TV Show
URL;VALUE=URI:https://www.christianretreat.org/events/purpose-for-life-tv-s
 how/2026-09-15
END:VEVENT
END:VCALENDAR
