BEGIN:VCALENDAR
VERSION:2.0
PRODID:icalendar-ruby
CALSCALE:GREGORIAN
METHOD:PUBLISH
BEGIN:VEVENT
DTSTAMP:20260424T133252Z
UID:21-7882521@christianretreat.org
DTSTART:20261028T030000Z
DTEND:20261028T033000Z
CLASS:PUBLIC
CREATED:20260424T070626
DESCRIPTION:
LAST-MODIFIED:20260424T070626
LOCATION:
SUMMARY:Purpose for Life TV Show
URL;VALUE=URI:https://www.christianretreat.org/events/purpose-for-life-tv-s
 how/2026-10-27
END:VEVENT
END:VCALENDAR
