BEGIN:VCALENDAR
VERSION:2.0
PRODID:icalendar-ruby
CALSCALE:GREGORIAN
METHOD:PUBLISH
BEGIN:VEVENT
DTSTAMP:20260424T154011Z
UID:21-7887011@christianretreat.org
DTSTART:20261104T040000Z
DTEND:20261104T043000Z
CLASS:PUBLIC
CREATED:20260424T100032
DESCRIPTION:
LAST-MODIFIED:20260424T100032
LOCATION:
SUMMARY:Purpose for Life TV Show
URL;VALUE=URI:https://www.christianretreat.org/events/purpose-for-life-tv-s
 how/2026-11-03
END:VEVENT
END:VCALENDAR
