BEGIN:VCALENDAR
VERSION:2.0
PRODID:icalendar-ruby
CALSCALE:GREGORIAN
METHOD:PUBLISH
BEGIN:VEVENT
DTSTAMP:20260422T113745Z
UID:41-7830603@christianretreat.org
DTSTART:20260705T140000Z
DTEND:20260705T153000Z
CLASS:PUBLIC
CREATED:20260422T070526
DESCRIPTION:TFC Kids - Sunday Mornings 10am during Worship Service\nLittle 
 Lambs (Infant - 18mos) - Nursery\nTots &amp\; Twos (19-36mos) - Lily of th
 e Valley Room\nKing's Kids (3 yrs old) - Bread of Life Room\nJr. Kids Zone
  (4-5 yrs old) - Lamb of God Room\nKids Zone (1st - 5th Grade) - YEX Youth
  Center\n 
LAST-MODIFIED:20260422T070526
LOCATION:See Description for Age Groups
SUMMARY:TFC Kids - SUNDAY
URL;VALUE=URI:https://www.christianretreat.org/events/tfc-kids-sunday/2026-
 07-05
ATTACH;FILENAME=TFC Kids 1500x784.png;FMTTYPE=image/png:https://dq5pwpg1q8r
 u0.cloudfront.net/2021/01/14/09/00/11/9f14c044-c35d-45e7-b7d9-a0811bd0b3f5
 /TFC%20Kids%201500x784.png
END:VEVENT
END:VCALENDAR
