BEGIN:VCALENDAR
VERSION:2.0
PRODID:icalendar-ruby
CALSCALE:GREGORIAN
METHOD:PUBLISH
BEGIN:VEVENT
DTSTAMP:20260423T160753Z
UID:243-6196100@christianretreat.org
DTSTART:20260211T000000Z
DTEND:20260211T013000Z
CLASS:PUBLIC
CREATED:20260219T095833
DESCRIPTION:
LAST-MODIFIED:20260219T095833
LOCATION:2nd Floor Boardroom
SUMMARY:TFC Men's Discipleship Training
URL;VALUE=URI:https://www.christianretreat.org/events/tfc-mens-discipleship
 -training/2026-02-10
ATTACH;FILENAME=Mens-Discipleship-Winter-2026.jpg;FMTTYPE=image/jpeg:https:
 //dq5pwpg1q8ru0.cloudfront.net/2026/02/11/19/12/10/d867a199-7c4c-4461-acc3
 -a67594194a22/Mens-Discipleship-Winter-2026.jpg
END:VEVENT
END:VCALENDAR
