BEGIN:VCALENDAR
VERSION:2.0
PRODID:icalendar-ruby
CALSCALE:GREGORIAN
METHOD:PUBLISH
BEGIN:VEVENT
DTSTAMP:20260423T211106Z
UID:23-7869653@christianretreat.org
DTSTART:20260712T130000Z
DTEND:20260712T140000Z
CLASS:PUBLIC
CREATED:20260423T155055
DESCRIPTION:Contact: Laurie Houston\nPhone: 941-705-4956
LAST-MODIFIED:20260423T155055
LOCATION:Alpha & Omega Room - 2nd Floor
SUMMARY:Women's Bible Study
URL;VALUE=URI:https://www.christianretreat.org/events/womens-bible-study/20
 26-07-12
END:VEVENT
END:VCALENDAR
