BEGIN:VCALENDAR
VERSION:2.0
PRODID:icalendar-ruby
CALSCALE:GREGORIAN
METHOD:PUBLISH
BEGIN:VEVENT
DTSTAMP:20260424T040425Z
UID:23-7878636@christianretreat.org
DTSTART:20260816T130000Z
DTEND:20260816T140000Z
CLASS:PUBLIC
CREATED:20260423T213819
DESCRIPTION:Contact: Laurie Houston\nPhone: 941-705-4956
LAST-MODIFIED:20260423T213819
LOCATION:Alpha & Omega Room - 2nd Floor
SUMMARY:Women's Bible Study
URL;VALUE=URI:https://www.christianretreat.org/events/womens-bible-study/20
 26-08-16
END:VEVENT
END:VCALENDAR
