BEGIN:VCALENDAR
VERSION:2.0
PRODID:icalendar-ruby
CALSCALE:GREGORIAN
METHOD:PUBLISH
BEGIN:VEVENT
DTSTAMP:20260424T113808Z
UID:23-7883130@christianretreat.org
DTSTART:20260920T130000Z
DTEND:20260920T140000Z
CLASS:PUBLIC
CREATED:20260424T070627
DESCRIPTION:Contact: Laurie Houston\nPhone: 941-705-4956
LAST-MODIFIED:20260424T070627
LOCATION:Alpha & Omega Room - 2nd Floor
SUMMARY:Women's Bible Study
URL;VALUE=URI:https://www.christianretreat.org/events/womens-bible-study/20
 26-09-20
END:VEVENT
END:VCALENDAR
