BEGIN:VCALENDAR
VERSION:2.0
PRODID:icalendar-ruby
CALSCALE:GREGORIAN
METHOD:PUBLISH
BEGIN:VEVENT
DTSTAMP:20260424T213710Z
UID:23-7896603@christianretreat.org
DTSTART:20261101T140000Z
DTEND:20261101T150000Z
CLASS:PUBLIC
CREATED:20260424T153632
DESCRIPTION:Contact: Laurie Houston\nPhone: 941-705-4956
LAST-MODIFIED:20260424T153632
LOCATION:Alpha & Omega Room - 2nd Floor
SUMMARY:Women's Bible Study
URL;VALUE=URI:https://www.christianretreat.org/events/womens-bible-study/20
 26-11-01
END:VEVENT
END:VCALENDAR
